BEGIN:VCALENDAR
VERSION:2.0
PRODID:-//www.siouxlandhabitat.org//NONSGML kigkonsult.se iCalcreator 2.30.
 10//
CALSCALE:GREGORIAN
METHOD:PUBLISH
UID:2cc4f05c-203e-40d9-990f-9a30ccd5d52a
X-WR-CALDESC:
X-WR-RELCALID:1a15b3034aa6bf0cbab3bb15417004f2
X-WR-TIMEZONE:America/Chicago
BEGIN:VTIMEZONE
TZID:America/Chicago
BEGIN:STANDARD
TZNAME:CST
DTSTART:20221106T020000
TZOFFSETFROM:-0500
TZOFFSETTO:-0600
RDATE:20231105T020000
RDATE:20241103T020000
END:STANDARD
BEGIN:DAYLIGHT
TZNAME:CDT
DTSTART:20230312T020000
TZOFFSETFROM:-0600
TZOFFSETTO:-0500
RDATE:20240310T020000
RDATE:20250309T020000
END:DAYLIGHT
END:VTIMEZONE
BEGIN:VEVENT
UID:04886f40-63c5-4b06-9345-1dd196462f85
DTSTAMP:20260422T072303Z
DESCRIPTION:
DTSTART;TZID=America/Chicago:20230930T143000
DTEND;TZID=America/Chicago:20230930T160000
LOCATION:
SUMMARY:ReStore Live Auction by Brock Auction
END:VEVENT
END:VCALENDAR
