BEGIN:VCALENDAR
VERSION:2.0
PRODID:-//www.siouxlandhabitat.org//NONSGML kigkonsult.se iCalcreator 2.30.
 10//
CALSCALE:GREGORIAN
METHOD:PUBLISH
UID:1c0a962a-fdde-41f9-aa0a-f3cdf95785dc
X-WR-CALDESC:
X-WR-RELCALID:96e54a1b1bcea3e92d508ccfb092fdf1
X-WR-TIMEZONE:America/Chicago
BEGIN:VTIMEZONE
TZID:America/Chicago
BEGIN:STANDARD
TZNAME:CST
DTSTART:20221106T020000
TZOFFSETFROM:-0500
TZOFFSETTO:-0600
RDATE:20231105T020000
RDATE:20241103T020000
END:STANDARD
BEGIN:DAYLIGHT
TZNAME:CDT
DTSTART:20230312T020000
TZOFFSETFROM:-0600
TZOFFSETTO:-0500
RDATE:20240310T020000
RDATE:20250309T020000
END:DAYLIGHT
END:VTIMEZONE
BEGIN:VEVENT
UID:683d1090-1e28-4a2a-95c5-f82ffb948cb0
DTSTAMP:20260422T071730Z
DESCRIPTION:
DTSTART;TZID=America/Chicago:20230929T000000
DTEND;TZID=America/Chicago:20230929T235900
LOCATION:
SUMMARY:Live Auction Preparation - ReStore Closed
END:VEVENT
END:VCALENDAR
