BEGIN:VCALENDAR
VERSION:2.0
PRODID:-//www.siouxlandhabitat.org//NONSGML kigkonsult.se iCalcreator 2.30.
 10//
CALSCALE:GREGORIAN
METHOD:PUBLISH
UID:372059b8-8af4-405c-a9b5-3161f27ecc35
X-WR-CALDESC:
X-WR-RELCALID:400109e1f8748f389fb21f7203065ae5
X-WR-TIMEZONE:America/Chicago
BEGIN:VTIMEZONE
TZID:America/Chicago
BEGIN:STANDARD
TZNAME:CST
DTSTART:20221106T020000
TZOFFSETFROM:-0500
TZOFFSETTO:-0600
RDATE:20231105T020000
RDATE:20241103T020000
END:STANDARD
BEGIN:DAYLIGHT
TZNAME:CDT
DTSTART:20230312T020000
TZOFFSETFROM:-0600
TZOFFSETTO:-0500
RDATE:20240310T020000
RDATE:20250309T020000
END:DAYLIGHT
END:VTIMEZONE
BEGIN:VEVENT
UID:e3182905-acda-4b11-ae44-834689a9e60e
DTSTAMP:20260422T071940Z
DESCRIPTION:
DTSTART;TZID=America/Chicago:20230928T000000
DTEND;TZID=America/Chicago:20230928T235900
LOCATION:
SUMMARY:Live Auction Preparation - ReStore Closed
END:VEVENT
END:VCALENDAR
