BEGIN:VCALENDAR
VERSION:2.0
PRODID:-//www.siouxlandhabitat.org//NONSGML kigkonsult.se iCalcreator 2.30.
 10//
CALSCALE:GREGORIAN
METHOD:PUBLISH
UID:c4cda879-435e-4f66-9d5a-4c86bfe9aeb0
X-WR-CALDESC:
X-WR-RELCALID:f4d3846b8ee64718da2ef60845409a42
X-WR-TIMEZONE:America/Chicago
BEGIN:VTIMEZONE
TZID:America/Chicago
BEGIN:STANDARD
TZNAME:CST
DTSTART:20231105T020000
TZOFFSETFROM:-0500
TZOFFSETTO:-0600
RDATE:20241103T020000
RDATE:20251102T020000
END:STANDARD
BEGIN:DAYLIGHT
TZNAME:CDT
DTSTART:20240310T020000
TZOFFSETFROM:-0600
TZOFFSETTO:-0500
RDATE:20250309T020000
RDATE:20260308T020000
END:DAYLIGHT
END:VTIMEZONE
BEGIN:VEVENT
UID:d63e1ce5-c243-44e7-bcfb-68da3094a806
DTSTAMP:20260424T105610Z
DESCRIPTION:
DTSTART;TZID=America/Chicago:20240912T010000
DTEND;TZID=America/Chicago:20270930T000000
LOCATION:1150 Tri-View Ave\, Sioux City\, IA 51103 US
SUMMARY:Sponsor A Stud
END:VEVENT
END:VCALENDAR
